BEGIN:VCALENDAR
VERSION:2.0
PRODID:-//Hertener SPD - ECPv6.15.17//NONSGML v1.0//EN
CALSCALE:GREGORIAN
METHOD:PUBLISH
X-ORIGINAL-URL:https://hertenerspd.de
X-WR-CALDESC:Veranstaltungen für Hertener SPD
REFRESH-INTERVAL;VALUE=DURATION:PT1H
X-Robots-Tag:noindex
X-PUBLISHED-TTL:PT1H
BEGIN:VTIMEZONE
TZID:Europe/Berlin
BEGIN:DAYLIGHT
TZOFFSETFROM:+0100
TZOFFSETTO:+0200
TZNAME:CEST
DTSTART:20250330T010000
END:DAYLIGHT
BEGIN:STANDARD
TZOFFSETFROM:+0200
TZOFFSETTO:+0100
TZNAME:CET
DTSTART:20251026T010000
END:STANDARD
BEGIN:DAYLIGHT
TZOFFSETFROM:+0100
TZOFFSETTO:+0200
TZNAME:CEST
DTSTART:20260329T010000
END:DAYLIGHT
BEGIN:STANDARD
TZOFFSETFROM:+0200
TZOFFSETTO:+0100
TZNAME:CET
DTSTART:20261025T010000
END:STANDARD
BEGIN:DAYLIGHT
TZOFFSETFROM:+0100
TZOFFSETTO:+0200
TZNAME:CEST
DTSTART:20270328T010000
END:DAYLIGHT
BEGIN:STANDARD
TZOFFSETFROM:+0200
TZOFFSETTO:+0100
TZNAME:CET
DTSTART:20271031T010000
END:STANDARD
END:VTIMEZONE
BEGIN:VEVENT
DTSTART;TZID=Europe/Berlin:20260303T150000
DTEND;TZID=Europe/Berlin:20260303T170000
DTSTAMP:20260424T141526
CREATED:20260307T220328Z
LAST-MODIFIED:20260307T220342Z
UID:29044-1772550000-1772557200@hertenerspd.de
SUMMARY:Internationales Frauencafé
DESCRIPTION:Außerdem trefft ihr uns auf folgenden Veranstaltungen – sehen wir uns? \nDienstag\, 03.03.\, 15 Uhr\, Haus der Kulturen: Internationales Frauencafé
URL:https://hertenerspd.de/event/internationales-frauencafe/
LOCATION:Haus der Kulturen
END:VEVENT
BEGIN:VEVENT
DTSTART;TZID=Europe/Berlin:20260303T150000
DTEND;TZID=Europe/Berlin:20260303T170000
DTSTAMP:20260424T141526
CREATED:20260307T230040Z
LAST-MODIFIED:20260307T230043Z
UID:29073-1772550000-1772557200@hertenerspd.de
SUMMARY:Unsere Woche im Überblick
DESCRIPTION:In dieser Woche stehen für uns folgende Termine an: \nFür euch mit dabei: Georg Bödecker\, Dr. Jan Hildenhagen\, Wolfgang Kumpf\, Bekir Uzunoglu und Richard Dewitz \nZur Tagesordnung \nFür euch mit dabei: Dr. Jan Hildenhagen\, Dr. Babette Nieder\, Aynur Terzi\, Yannick Schenker und Jürgen Grunwald \nZur Tagesordnung \nFür euch mit dabei: Georg Bödecker (Vorsitzender)\, Khaled El-Osman\, Kristina Muzeika\, Katrin Hildenhagen und Marina Verkamp \nZur Tagesordnung \nAußerdem kommen wir in dieser Woche vor Ort mit euch ins Gespräch: \nDienstag\, 17.02.\, 13 Uhr\, Grünstreifen vor dem Autohaus Schürmann: Austausch zum möglichen Bau eines Vollsortiment-Supermarktes in Langenbochum \nDarüber hinaus trefft ihr uns auf folgender Veranstaltung – sehen wir uns? \nSonntag\, 22.02.\, 10 Uhr\, Sportplatz Bertlich: Bertlicher Straßenläufe
URL:https://hertenerspd.de/event/unsere-woche-im-ueberblick/
LOCATION:Haus der Kulturen
END:VEVENT
BEGIN:VEVENT
DTSTART;TZID=Europe/Berlin:20260303T150000
DTEND;TZID=Europe/Berlin:20260303T170000
DTSTAMP:20260424T141526
CREATED:20260308T115011Z
LAST-MODIFIED:20260308T115018Z
UID:29083-1772550000-1772557200@hertenerspd.de
SUMMARY:Unsere Woche im Überblick
DESCRIPTION:In dieser Woche stehen für uns folgende Termine an: \nFür euch mit dabei: Georg Bödecker\, Dr. Jan Hildenhagen\, Wolfgang Kumpf\, Bekir Uzunoglu und Richard Dewitz \nDie Tagesordnung findet ihr hier: Zur Tagesordnung \nAußerdem kommen wir in dieser Woche vor Ort mit euch ins Gespräch: \nDienstag\, 17.02.\, 13 Uhr\, Grünstreifen vor dem Autohaus Schürmann: Austausch zum möglichen Bau eines Vollsortiment-Supermarktes in Langenbochum \nDarüber hinaus trefft ihr uns auf folgender Veranstaltung – sehen wir uns? \nSonntag\, 22.02.\, 10 Uhr\, Sportplatz Bertlich: Bertlicher Straßenläufe
URL:https://hertenerspd.de/event/unsere-woche-im-ueberblick-6/
LOCATION:Haus der Kulturen
END:VEVENT
BEGIN:VEVENT
DTSTART;TZID=Europe/Berlin:20260304T170000
DTEND;TZID=Europe/Berlin:20260304T190000
DTSTAMP:20260424T141526
CREATED:20260307T220327Z
LAST-MODIFIED:20260307T220342Z
UID:29043-1772643600-1772650800@hertenerspd.de
SUMMARY:Sitzung des Stadtrates
DESCRIPTION:In dieser Woche steht für uns folgender Termin an: \nMittwoch\, 04.03.\, 17 Uhr\, Ratssaal: Sitzung des Stadtrates \nFür euch mit dabei: Georg Bödecker\, Dr. Jan Hildenhagen\, Selman Duran\, Khaled El-Osman\, LauraEstner\, Wolfgang Kumpf\, Kristina Muzeika\, Dr. Babette Nieder\, Thomas Prinz\, Aynur Terzi\, Numan Terzi\, Bekir Uzunoglu und Claudia van Hal-Buschhausen \nZur Tagesordnung
URL:https://hertenerspd.de/event/sitzung-des-stadtrates/
LOCATION:Ratssaal
END:VEVENT
BEGIN:VEVENT
DTSTART;TZID=Europe/Berlin:20260308T100000
DTEND;TZID=Europe/Berlin:20260308T120000
DTSTAMP:20260424T141526
CREATED:20260307T220328Z
LAST-MODIFIED:20260307T220342Z
UID:29048-1772964000-1772971200@hertenerspd.de
SUMMARY:Frauenfrühstück mit Kultur
DESCRIPTION:Sonntag\, 08.03.\, 10 Uhr\, Glashaus: Frauenfrühstück mit Kultur
URL:https://hertenerspd.de/event/frauenfruehstueck-mit-kultur/
LOCATION:Glashaus
END:VEVENT
BEGIN:VEVENT
DTSTART;TZID=Europe/Berlin:20260325T170000
DTEND;TZID=Europe/Berlin:20260325T190000
DTSTAMP:20260424T141526
CREATED:20260307T220329Z
LAST-MODIFIED:20260307T220342Z
UID:29052-1774458000-1774465200@hertenerspd.de
SUMMARY:Auftaktveranstaltung Beteiligungsprozess Integration
DESCRIPTION:In unserer Stadt leben Menschen aus über 120 Nationen\, unter anderem aus der Türkei\, Syrien\, Ukraine und Griechenland. Ein tragfähiges und zukunftsorientiertes Integrationskonzept ist deshalb unverzichtbar. \n📅 25. März 2026 | 17:00 Uhr | Glashaus Herten \nAn diesem Tag startet mit einer Auftaktveranstaltung offiziell der Beteiligungsprozess. Mit dabei: Vertreterinnen und Vertreter aus Wissenschaft\, Verwaltung\, Politik und Zivilgesellschaft sowie integrationsrelevante Akteure.
URL:https://hertenerspd.de/event/auftaktveranstaltung-beteiligungsprozess-integration/
LOCATION:Glashaus Herten
END:VEVENT
END:VCALENDAR