BEGIN:VCALENDAR
VERSION:2.0
PRODID:-//Hertener SPD - ECPv6.15.17//NONSGML v1.0//EN
CALSCALE:GREGORIAN
METHOD:PUBLISH
X-WR-CALNAME:Hertener SPD
X-ORIGINAL-URL:https://hertenerspd.de
X-WR-CALDESC:Veranstaltungen für Hertener SPD
REFRESH-INTERVAL;VALUE=DURATION:PT1H
X-Robots-Tag:noindex
X-PUBLISHED-TTL:PT1H
BEGIN:VTIMEZONE
TZID:Europe/Berlin
BEGIN:DAYLIGHT
TZOFFSETFROM:+0100
TZOFFSETTO:+0200
TZNAME:CEST
DTSTART:20250330T010000
END:DAYLIGHT
BEGIN:STANDARD
TZOFFSETFROM:+0200
TZOFFSETTO:+0100
TZNAME:CET
DTSTART:20251026T010000
END:STANDARD
BEGIN:DAYLIGHT
TZOFFSETFROM:+0100
TZOFFSETTO:+0200
TZNAME:CEST
DTSTART:20260329T010000
END:DAYLIGHT
BEGIN:STANDARD
TZOFFSETFROM:+0200
TZOFFSETTO:+0100
TZNAME:CET
DTSTART:20261025T010000
END:STANDARD
BEGIN:DAYLIGHT
TZOFFSETFROM:+0100
TZOFFSETTO:+0200
TZNAME:CEST
DTSTART:20270328T010000
END:DAYLIGHT
BEGIN:STANDARD
TZOFFSETFROM:+0200
TZOFFSETTO:+0100
TZNAME:CET
DTSTART:20271031T010000
END:STANDARD
END:VTIMEZONE
BEGIN:VEVENT
DTSTART;TZID=Europe/Berlin:20260222T100000
DTEND;TZID=Europe/Berlin:20260222T120000
DTSTAMP:20260424T170357
CREATED:20260307T220329Z
LAST-MODIFIED:20260307T220342Z
UID:29053-1771754400-1771761600@hertenerspd.de
SUMMARY:Bertlicher Straßenläufe
DESCRIPTION:Sonntag\, 22.02.\, 10 Uhr\, Sportplatz Bertlich: Bertlicher Straßenläufe
URL:https://hertenerspd.de/event/bertlicher-strassenlaeufe/
LOCATION:Sportplatz Bertlich
END:VEVENT
BEGIN:VEVENT
DTSTART;TZID=Europe/Berlin:20260222T100000
DTEND;TZID=Europe/Berlin:20260222T120000
DTSTAMP:20260424T170357
CREATED:20260308T115011Z
LAST-MODIFIED:20260308T115018Z
UID:29089-1771754400-1771761600@hertenerspd.de
SUMMARY:Unsere Woche im Überblick
DESCRIPTION:In dieser Woche stehen für uns folgende Termine an: \nFür euch mit dabei: Georg Bödecker\, Dr. Jan Hildenhagen\, Wolfgang Kumpf\, Bekir Uzunoglu und Richard Dewitz \nDie Tagesordnung findet ihr hier: Zur Tagesordnung \nAußerdem kommen wir in dieser Woche vor Ort mit euch ins Gespräch: \nDienstag\, 17.02.\, 13 Uhr\, Grünstreifen vor dem Autohaus Schürmann: Austausch zum möglichen Bau eines Vollsortiment-Supermarktes in Langenbochum \nDarüber hinaus trefft ihr uns auf folgender Veranstaltung – sehen wir uns? \nSonntag\, 22.02.\, 10 Uhr\, Sportplatz Bertlich: Bertlicher Straßenläufe
URL:https://hertenerspd.de/event/unsere-woche-im-ueberblick-12/
LOCATION:Sportplatz Bertlich
END:VEVENT
END:VCALENDAR