BEGIN:VCALENDAR
VERSION:2.0
PRODID:-//Hertener SPD - ECPv6.15.17//NONSGML v1.0//EN
CALSCALE:GREGORIAN
METHOD:PUBLISH
X-WR-CALNAME:Hertener SPD
X-ORIGINAL-URL:https://hertenerspd.de
X-WR-CALDESC:Veranstaltungen für Hertener SPD
REFRESH-INTERVAL;VALUE=DURATION:PT1H
X-Robots-Tag:noindex
X-PUBLISHED-TTL:PT1H
BEGIN:VTIMEZONE
TZID:Europe/Berlin
BEGIN:DAYLIGHT
TZOFFSETFROM:+0100
TZOFFSETTO:+0200
TZNAME:CEST
DTSTART:20230326T010000
END:DAYLIGHT
BEGIN:STANDARD
TZOFFSETFROM:+0200
TZOFFSETTO:+0100
TZNAME:CET
DTSTART:20231029T010000
END:STANDARD
BEGIN:DAYLIGHT
TZOFFSETFROM:+0100
TZOFFSETTO:+0200
TZNAME:CEST
DTSTART:20240331T010000
END:DAYLIGHT
BEGIN:STANDARD
TZOFFSETFROM:+0200
TZOFFSETTO:+0100
TZNAME:CET
DTSTART:20241027T010000
END:STANDARD
BEGIN:DAYLIGHT
TZOFFSETFROM:+0100
TZOFFSETTO:+0200
TZNAME:CEST
DTSTART:20250330T010000
END:DAYLIGHT
BEGIN:STANDARD
TZOFFSETFROM:+0200
TZOFFSETTO:+0100
TZNAME:CET
DTSTART:20251026T010000
END:STANDARD
END:VTIMEZONE
BEGIN:VEVENT
DTSTART;TZID=Europe/Berlin:20241223T090000
DTEND;TZID=Europe/Berlin:20241223T180000
DTSTAMP:20260425T133815
CREATED:20241218T203433Z
LAST-MODIFIED:20241219T210741Z
UID:27725-1734944400-1734976800@hertenerspd.de
SUMMARY:Dies ist eine Testveranstalltung
DESCRIPTION:Dies ist eine Testveranstaltung. Es passiert rein gar nichts. Sie dient lediglich\, um die Funktion zu prüfen.
URL:https://hertenerspd.de/event/dies-ist-eine-testveranstalltung/
END:VEVENT
END:VCALENDAR